BEGIN:VCALENDAR
PRODID:-//Session events Calendar//IBA//EN
CALSCALE:GREGORIAN
VERSION:2.0
BEGIN:VEVENT
DTSTAMP:20260425T201244Z
DTSTART:20230928T140500Z
DTEND:20230928T145000Z
SUMMARY:Bonjour Paris: Ciao Milano
DESCRIPTION:The French private equity market has its own distinctive char
 acteristics. Sophisticated mid-market deals\, secondary transactions and
  minority investments are just some of the facets of this that this pane
 l will explore. Italy has a vibrant private equity market with large dea
 ls in fashion\, sport and technology to the fore. This panel will look a
 t what lawyers need to understand when clients embark on a deal in Italy
 .
LOCATION:
UID:13a14c3c-72a5-41dd-9895-a66beb1e70e9
END:VEVENT
END:VCALENDAR
