BEGIN:VCALENDAR
PRODID:-//Session events Calendar//IBA//EN
CALSCALE:GREGORIAN
VERSION:2.0
BEGIN:VEVENT
DTSTAMP:20260425T201244Z
DTSTART:20230928T154500Z
DTEND:20230928T160000Z
SUMMARY:Coffee/ tea break
DESCRIPTION:
LOCATION:
UID:41dde638-4b9b-4630-a192-8a6c74dd7aa6
END:VEVENT
END:VCALENDAR
