BEGIN:VCALENDAR
PRODID:-//Session events Calendar//IBA//EN
CALSCALE:GREGORIAN
VERSION:2.0
BEGIN:VEVENT
DTSTAMP:20260425T200626Z
DTSTART:20230928T160000Z
DTEND:20230928T165000Z
SUMMARY:The client’s view: sponsor GCs
DESCRIPTION:This panel is an opportunity for private practice specialists
  to hear the areas of priority for sponsor legal groups\, and how outsid
 e counsel can best help. What is keeping these in-house lawyers up at ni
 ght? What do they want to see from their external counsel?
LOCATION:
UID:4e3cba42-ec35-407a-986f-aabb074ade8e
END:VEVENT
END:VCALENDAR
