BEGIN:VCALENDAR
PRODID:-//Session events Calendar//IBA//EN
CALSCALE:GREGORIAN
VERSION:2.0
BEGIN:VEVENT
DTSTAMP:20260425T213638Z
DTSTART:20230928T165000Z
DTEND:20230928T170000Z
SUMMARY:Conclusions and wrap-up
DESCRIPTION:
LOCATION:
UID:79e56ddf-e813-40c6-ac97-3535d5f5fff2
END:VEVENT
END:VCALENDAR
