BEGIN:VCALENDAR
PRODID:-//Session events Calendar//IBA//EN
CALSCALE:GREGORIAN
VERSION:2.0
BEGIN:VEVENT
DTSTAMP:20260425T200723Z
DTSTART:20230928T124500Z
DTEND:20230928T130500Z
SUMMARY:Where philanthropy meets private equity
DESCRIPTION:Greater Share’s Chair of the Board Paul Fletcher will present
  followed by a Q&amp\;A with Charles Martin
LOCATION:
UID:dd57378f-90e3-4660-be2a-2b8a92e68a6e
END:VEVENT
END:VCALENDAR
