BEGIN:VCALENDAR
PRODID:-//Session events Calendar//IBA//EN
CALSCALE:GREGORIAN
VERSION:2.0
BEGIN:VEVENT
DTSTAMP:20260425T200723Z
DTSTART:20230913T093000Z
DTEND:20230913T104500Z
SUMMARY:New careers in the law and building your profile in new sectors -
  Part 2
DESCRIPTION:This session promises to be an enlightening discussion with l
 eading in-house counsel working in companies in emerging areas of law ac
 ross the continent. The panel will address topics such as what skills ar
 e needed by lawyers in these emerging areas\, how and where to acquire t
 hose skills\, adding value as counsel within your organization and build
 ing a professional profile as an expert counsel in such spaces.
LOCATION:
UID:0d54ec0d-13a5-4126-abaa-d785df7929bb
END:VEVENT
END:VCALENDAR
