BEGIN:VCALENDAR
PRODID:-//Session events Calendar//IBA//EN
CALSCALE:GREGORIAN
VERSION:2.0
BEGIN:VEVENT
DTSTAMP:20260425T200626Z
DTSTART:20230913T120000Z
DTEND:20230913T122000Z
SUMMARY:Keynote speech
DESCRIPTION:
LOCATION:
UID:a2ef7c60-f306-41e5-8e37-5494283e2a66
END:VEVENT
END:VCALENDAR
