BEGIN:VCALENDAR
PRODID:-//Session events Calendar//IBA//EN
CALSCALE:GREGORIAN
VERSION:2.0
BEGIN:VEVENT
DTSTAMP:20260425T200729Z
DTSTART:20230913T104500Z
DTEND:20230913T120000Z
SUMMARY:Lunch
DESCRIPTION:
LOCATION:
UID:e1ac1bb9-dcad-4019-9115-d88a5d4dbb81
END:VEVENT
END:VCALENDAR
