BEGIN:VCALENDAR
PRODID:-//Session events Calendar//IBA//EN
CALSCALE:GREGORIAN
VERSION:2.0
BEGIN:VEVENT
DTSTAMP:20260422T182614Z
DTSTART:20231029T131500Z
DTEND:20231029T144500Z
SUMMARY:Session two: How can we help?
DESCRIPTION:Institutions like the International Bar Association foster th
 e efficiency and legitimacy of international arbitration by\, among othe
 rs\, issuing uniform sets of rules and guidelines. This Oxford-style pan
 el will address two questions: if it is not broken\, why fix it? Or rath
 er\, are there some things that need to be changed? The first motion wil
 l confirm or deny whether witness statements drafted by lawyers have los
 t their probative value. The second motion will discuss whether we need 
 stricter ethical rules for international arbitration practitioners.
LOCATION:
UID:456618da-3a27-45cf-b3f8-a8efc3305b96
END:VEVENT
END:VCALENDAR
