BEGIN:VCALENDAR
PRODID:-//Session events Calendar//IBA//EN
CALSCALE:GREGORIAN
VERSION:2.0
BEGIN:VEVENT
DTSTAMP:20260425T180448Z
DTSTART:20230927T080000Z
DTEND:20230927T083000Z
SUMMARY:Session two : The Fintech market – where to next?
DESCRIPTION:This session will look at the emerging trends in the Fintech 
 market and the challenges and opportunities for this market.
LOCATION:
UID:fe88bdce-085d-4d20-a0f3-a7ec15a5701f
END:VEVENT
END:VCALENDAR
