BEGIN:VCALENDAR
PRODID:-//Session events Calendar//IBA//EN
CALSCALE:GREGORIAN
VERSION:2.0
BEGIN:VEVENT
DTSTAMP:20260420T122414Z
DTSTART:20230927T093000Z
DTEND:20230927T101500Z
SUMMARY:Session four : The intersection of AI and law: embracing opportun
 ities\, navigating threats
DESCRIPTION:This discussion will focus on the future of artificial intell
 igence (AI) where visionary startup founders will share valuable insight
 s into the current capabilities of AI and its potential to streamline an
 d enhance legal processes.\nAdditionally\, the panellists will also touc
 h upon the practical applications of AI in the present\, specifically hi
 ghlighting how it can already assist with contract negotiations. This di
 scussion will provide valuable insights into the current capabilities of
  AI and its potential to streamline and enhance legal processes.\n
LOCATION:
UID:eea44ca7-3ef0-4e37-89f2-cdb124b2c909
END:VEVENT
END:VCALENDAR
