BEGIN:VCALENDAR
PRODID:-//Session events Calendar//IBA//EN
CALSCALE:GREGORIAN
VERSION:2.0
BEGIN:VEVENT
DTSTAMP:20260424T181519Z
DTSTART:20231028T093000Z
DTEND:20231028T104500Z
SUMMARY:Key issues and tactics for negotiating a successful cross-border 
 M&A deal
DESCRIPTION:In the dynamic world of global business\, cross-border merger
 s and acquisitions (M&amp\;A) present unparalleled growth opportunities 
 for companies looking to expand their horizons. However\, executing a su
 ccessful cross-border M&amp\;A requires meticulous planning\, deep under
 standing of cultural nuances\, and strategic negotiation tactics. This p
 anel will dive into the key issues that arise in such transactions and h
 ighlights the tactical approaches essential for ensuring a smooth and pr
 osperous outcome.\n\nKey issues:\n\n\n	Cultural differences: when engagi
 ng in cross-border M&amp\;A\, companies must acknowledge and address cul
 tural disparities that can influence decision-making processes\, communi
 cation styles and business practices. Fostering a collaborative\, cross-
 cultural environment is vital for synergy and post-merger integration su
 ccess.\n	Regulatory and legal challenges: navigating complex regulatory 
 landscapes in different countries is a critical aspect of cross-border M
 &amp\;A. Understanding local laws\, tax implications and compliance requ
 irements ensures that the transaction remains on solid legal footing and
  minimises potential risks.\n	Financial considerations: managing currenc
 y fluctuations\, cross-border financing and valuation differences is ess
 ential to strike a mutually beneficial deal. Analysing the financial asp
 ects of the transaction from both sides is crucial for fostering trust a
 nd cooperation.\n	\n\n
LOCATION:
UID:5301eb30-dd24-4d93-8473-8083ddc87a58
END:VEVENT
END:VCALENDAR
