BEGIN:VCALENDAR
PRODID:-//Session events Calendar//IBA//EN
CALSCALE:GREGORIAN
VERSION:2.0
BEGIN:VEVENT
DTSTAMP:20260419T162145Z
DTSTART:20240417T163000Z
DTEND:20240417T173000Z
SUMMARY:Light lunch
DESCRIPTION:
LOCATION:
UID:d50ba2b3-b625-4fbd-8305-658dfe8d7640
END:VEVENT
END:VCALENDAR
