BEGIN:VCALENDAR
PRODID:-//Session events Calendar//IBA//EN
CALSCALE:GREGORIAN
VERSION:2.0
BEGIN:VEVENT
DTSTAMP:20260419T162221Z
DTSTART:20240417T195000Z
DTEND:20240417T201000Z
SUMMARY:Coffee/tea break
DESCRIPTION:
LOCATION:
UID:2fe98089-65e7-477f-8d3a-d394ceaa98ba
END:VEVENT
END:VCALENDAR
