BEGIN:VCALENDAR
PRODID:-//Session events Calendar//IBA//EN
CALSCALE:GREGORIAN
VERSION:2.0
BEGIN:VEVENT
DTSTAMP:20260419T162344Z
DTSTART:20240417T212500Z
DTEND:20240417T214500Z
SUMMARY:Coffee/tea break
DESCRIPTION:
LOCATION:
UID:7299e626-a345-48bb-98e5-005ab5e8c6bb
END:VEVENT
END:VCALENDAR
