BEGIN:VCALENDAR
PRODID:-//Session events Calendar//IBA//EN
CALSCALE:GREGORIAN
VERSION:2.0
BEGIN:VEVENT
DTSTAMP:20260419T162219Z
DTSTART:20240418T171000Z
DTEND:20240418T181500Z
SUMMARY:Lunch
DESCRIPTION:
LOCATION:
UID:6173454b-7775-4a8e-822c-171f5b967d7c
END:VEVENT
END:VCALENDAR
