BEGIN:VCALENDAR
PRODID:-//Session events Calendar//IBA//EN
CALSCALE:GREGORIAN
VERSION:2.0
BEGIN:VEVENT
DTSTAMP:20260419T162219Z
DTSTART:20240418T153000Z
DTEND:20240418T155000Z
SUMMARY:Coffee/tea break
DESCRIPTION:
LOCATION:
UID:12088f45-fefb-4fc1-81ff-f7b3445f1acb
END:VEVENT
END:VCALENDAR
