BEGIN:VCALENDAR
PRODID:-//Session events Calendar//IBA//EN
CALSCALE:GREGORIAN
VERSION:2.0
BEGIN:VEVENT
DTSTAMP:20260419T162219Z
DTSTART:20240418T190000Z
DTEND:20240418T192000Z
SUMMARY:Coffee/tea break
DESCRIPTION:
LOCATION:
UID:ab4b8e73-ece6-48a5-8b45-1f93b44b752c
END:VEVENT
END:VCALENDAR
