BEGIN:VCALENDAR
PRODID:-//Session events Calendar//IBA//EN
CALSCALE:GREGORIAN
VERSION:2.0
BEGIN:VEVENT
DTSTAMP:20260426T013552Z
DTSTART:20240201T110000Z
DTEND:20240201T190000Z
SUMMARY:Registration
DESCRIPTION:
LOCATION:America do Sul room - floor E2
UID:6f084976-c372-4c8d-8e77-f960f2366627
END:VEVENT
END:VCALENDAR
