BEGIN:VCALENDAR
PRODID:-//Session events Calendar//IBA//EN
CALSCALE:GREGORIAN
VERSION:2.0
BEGIN:VEVENT
DTSTAMP:20260426T014028Z
DTSTART:20240201T115000Z
DTEND:20240201T120000Z
SUMMARY:Welcome remarks 
DESCRIPTION:
LOCATION:America do Sul room - floor E2
UID:6d28146b-f36c-4d76-9af5-2de80bdfacbb
END:VEVENT
END:VCALENDAR
