BEGIN:VCALENDAR
PRODID:-//Session events Calendar//IBA//EN
CALSCALE:GREGORIAN
VERSION:2.0
BEGIN:VEVENT
DTSTAMP:20260426T014916Z
DTSTART:20240201T121500Z
DTEND:20240201T134500Z
SUMMARY:Discovery of criminal offenses by the arbitral tribunal
DESCRIPTION:In the course of the arbitration\, the tribunal may discover 
 that criminal offences such as bribery\, corruption and money laundering
  might have been committed. What should the tribunal do in that situatio
 n? What are the applicable laws at play? Does the tribunal have a duty t
 o investigate in order to ascertain whether these criminal offences have
  been committed and\, if so\, what is the applicable standard of proof? 
 Does the tribunal have a duty to report these criminal offences to the a
 uthorities\, and if so\, which authorities? What happens if the tribunal
  fails to report these offences to the authorities? Does the approach di
 ffer depending on the parties\, as well as whether this is a commercial 
 or investment arbitration? The panel will discuss these perplexing issue
 s at the session.\n
LOCATION:America do Sul room - floor E2
UID:49950736-da21-49c5-bd30-b086c91d1052
END:VEVENT
END:VCALENDAR
