BEGIN:VCALENDAR
PRODID:-//Session events Calendar//IBA//EN
CALSCALE:GREGORIAN
VERSION:2.0
BEGIN:VEVENT
DTSTAMP:20260426T013552Z
DTSTART:20240201T190000Z
DTEND:20240201T203000Z
SUMMARY:From fake arbitrations to awards based on fraudulent evidence
DESCRIPTION:The panel will discuss matters related to sham arbitration or
 ganizations\, fraudulent arbitrations and arbitral awards based on fraud
 ulent evidence (eg. deepfake and other types).\n
LOCATION:America do Sul room - floor E2
UID:3a627641-be9e-4a1c-9316-ef0248453a32
END:VEVENT
END:VCALENDAR
