BEGIN:VCALENDAR
PRODID:-//Session events Calendar//IBA//EN
CALSCALE:GREGORIAN
VERSION:2.0
BEGIN:VEVENT
DTSTAMP:20260426T014028Z
DTSTART:20240202T120000Z
DTEND:20240202T143000Z
SUMMARY:Registration
DESCRIPTION:
LOCATION:America do Sul room - floor E2
UID:081be6a2-17ea-4bfd-9ee7-4376754426fc
END:VEVENT
END:VCALENDAR
