BEGIN:VCALENDAR
PRODID:-//Session events Calendar//IBA//EN
CALSCALE:GREGORIAN
VERSION:2.0
BEGIN:VEVENT
DTSTAMP:20260426T014019Z
DTSTART:20240202T123000Z
DTEND:20240202T140000Z
SUMMARY:Parallel proceedings - arbitrators between a rock and a hard plac
 e
DESCRIPTION:The panel will discuss different issues arising from the inte
 rsection between criminal proceedings (investigation\, prosecution\, tri
 al) and commercial or investments arbitrations. Should arbitrators stay 
 arbitrations pending the outcome of criminal proceedings?How should they
  treat for purposes of the arbitration the evidence given and the result
  that may issue in criminal proceedings? How should they deal with a req
 uest to share outside of the arbitration the information gathered in the
  arbitration? Do criminal investigations deserve a different treatment i
 n investment arbitrations when the state is relying upon an investigatio
 n as a defence?\n
LOCATION:America do Sul room - floor E2
UID:4fb58cdc-e499-405d-8e3e-d869910a4376
END:VEVENT
END:VCALENDAR
