BEGIN:VCALENDAR
PRODID:-//Session events Calendar//IBA//EN
CALSCALE:GREGORIAN
VERSION:2.0
BEGIN:VEVENT
DTSTAMP:20260426T014916Z
DTSTART:20240202T143000Z
DTEND:20240202T160000Z
SUMMARY:Is crime the solution? Criminal issues as artillery against arbit
 ral awards
DESCRIPTION:This panel will discuss issues such as: (1) the use of crimin
 al law as a tactic to disrupt arbitral proceedings and to vacate awards\
 ; (2) attacks to arbitrators\, to the proceedings and other issues raise
 d as grounds to challenge unfavourable awards\; (3) criminal behaviour t
 hat may jeopardise the arbitration\; and(4) the consequences of the annu
 lment of awards by fraud.\n
LOCATION:America do Sul room - floor E2
UID:40e3752f-81fe-4f6b-a324-2f458524609b
END:VEVENT
END:VCALENDAR
