BEGIN:VCALENDAR
PRODID:-//Session events Calendar//IBA//EN
CALSCALE:GREGORIAN
VERSION:2.0
BEGIN:VEVENT
DTSTAMP:20260426T014003Z
DTSTART:20240201T134500Z
DTEND:20240201T141500Z
SUMMARY:Coffee/tea break
DESCRIPTION:
LOCATION:Foyer of America do Sul room - floor E2
UID:49d52e90-ebc0-4112-bd2e-21976639dfb9
END:VEVENT
END:VCALENDAR
