BEGIN:VCALENDAR
PRODID:-//Session events Calendar//IBA//EN
CALSCALE:GREGORIAN
VERSION:2.0
BEGIN:VEVENT
DTSTAMP:20260426T014028Z
DTSTART:20240201T154500Z
DTEND:20240202T171500Z
SUMMARY:Lunch
DESCRIPTION:
LOCATION:America do Norte room - floor E2
UID:bf1b3959-c76e-4d2b-a800-d06a5626133a
END:VEVENT
END:VCALENDAR
