BEGIN:VCALENDAR
PRODID:-//Session events Calendar//IBA//EN
CALSCALE:GREGORIAN
VERSION:2.0
BEGIN:VEVENT
DTSTAMP:20260426T014019Z
DTSTART:20240201T184500Z
DTEND:20240201T191500Z
SUMMARY:Coffee/tea break
DESCRIPTION:
LOCATION:Foyer of America do Sul room - floor E2
UID:b20e9c26-8fce-41dc-a99c-a5887badb6f4
END:VEVENT
END:VCALENDAR
