BEGIN:VCALENDAR
PRODID:-//Session events Calendar//IBA//EN
CALSCALE:GREGORIAN
VERSION:2.0
BEGIN:VEVENT
DTSTAMP:20260426T014019Z
DTSTART:20240202T140000Z
DTEND:20240202T143000Z
SUMMARY:Coffee/tea break
DESCRIPTION:
LOCATION:Foyer of America do Sul room - floor E2
UID:aef39bf7-f61b-491b-9b36-b1c733bc8dd4
END:VEVENT
END:VCALENDAR
