BEGIN:VCALENDAR
PRODID:-//Session events Calendar//IBA//EN
CALSCALE:GREGORIAN
VERSION:2.0
BEGIN:VEVENT
DTSTAMP:20260423T050722Z
DTSTART:20231208T100000Z
DTEND:20231208T111000Z
SUMMARY:Monetising awards and judgments against sanctioned states and ent
 ities
DESCRIPTION:The recent waves of sanctions have had wide-reaching implicat
 ions on client representation and dispute resolution – such as arbitrati
 on – generally. How has enforcement been impacted?\n
LOCATION:
UID:fc5f3c49-6b24-46bc-b888-aa6e0bb0cac9
END:VEVENT
END:VCALENDAR
