BEGIN:VCALENDAR
PRODID:-//Session events Calendar//IBA//EN
CALSCALE:GREGORIAN
VERSION:2.0
BEGIN:VEVENT
DTSTAMP:20260421T085428Z
DTSTART:20231207T110500Z
DTEND:20231207T122000Z
SUMMARY:Tracing\, recovering and preserving unique and difficult classes 
 of assets
DESCRIPTION:This panel will discuss how to approach recovery of assets wh
 ich\, from a procedural\, logistical or practical perspective may be cha
 llenging to trace\, attach or to recover against (eg\, intellectual prop
 erty rights and specific commodities)\, or concern assets for which ther
 e is still little expertise (eg\, digital assets).\n
LOCATION:
UID:62718740-21bc-447d-bd20-ccdaef6647c9
END:VEVENT
END:VCALENDAR
