BEGIN:VCALENDAR
PRODID:-//Session events Calendar//IBA//EN
CALSCALE:GREGORIAN
VERSION:2.0
BEGIN:VEVENT
DTSTAMP:20260419T133629Z
DTSTART:20240321T183000Z
DTEND:20240321T193000Z
SUMMARY:ESG in the international trade and supply chain
DESCRIPTION:International trade and supply chain management were seen sol
 ely as a means to facilitate the exchange goods and increase wealth. How
 ever\, recent trends have placed basic human rights at the forefront of 
 all human interactions including international trade. It is with this vi
 ew in mind that the panel will deal with issues arising from human right
 s as they relate to trade and the international movement of goods\, incl
 uding forced labour\, climate change\, gender equality and others. 
LOCATION:
UID:73ff72f4-9d8b-4df8-b415-c8250a873f34
END:VEVENT
END:VCALENDAR
