BEGIN:VCALENDAR
PRODID:-//Session events Calendar//IBA//EN
CALSCALE:GREGORIAN
VERSION:2.0
BEGIN:VEVENT
DTSTAMP:20260425T164957Z
DTSTART:20240228T164500Z
DTEND:20240228T180000Z
SUMMARY:Putting your money where your mouth is – investment management wi
 th purpose
DESCRIPTION:The role of ESG in investment management has been under scrut
 iny. How do investment managers factor ESG criteria into decision-making
 ? Does ESG lead to better investment outcomes? Is there a correlation be
 tween ESG principles and financial performance? How has ESG impacted the
  investment management approach for different kinds of investors? This p
 anel will look at investment management from the perspective of investme
 nt funds\, financial institutions\, rating agencies and invested compani
 es to discuss the evolution of ESG as it relates to investment managemen
 t as well as expectations for the future.\n
LOCATION:
UID:0850f1cb-1adf-45ae-89ff-a2de773b036e
END:VEVENT
END:VCALENDAR
