BEGIN:VCALENDAR
PRODID:-//Session events Calendar//IBA//EN
CALSCALE:GREGORIAN
VERSION:2.0
BEGIN:VEVENT
DTSTAMP:20260424T181519Z
DTSTART:20240228T190000Z
DTEND:20240228T201500Z
SUMMARY:Diversity\, equity and inclusion (DEI) – how to help clients mana
 ge the 'S' in ESG
DESCRIPTION:Diversity\, equity and inclusion (DEI)\, as part of the ‘S’ i
 n ESG\, are thought to be a key part of successfully managing a diverse 
 workforce\; but the political forces countering ESG are focusing on DEI 
 programmes and are seeking their elimination. This panel of seasoned pro
 fessionals will explore the history of DEI programmes\, the business cas
 e for DEI and expectations for the future\, as well as best practices fo
 r lawyers advising on DEI-related issues.\n
LOCATION:
UID:c6e9ab31-7ce0-4047-945c-2371473652e2
END:VEVENT
END:VCALENDAR
