BEGIN:VCALENDAR
PRODID:-//Session events Calendar//IBA//EN
CALSCALE:GREGORIAN
VERSION:2.0
BEGIN:VEVENT
DTSTAMP:20260426T014028Z
DTSTART:20240201T120000Z
DTEND:20240201T121500Z
SUMMARY:Opening address
DESCRIPTION:
LOCATION:America do Sul room - floor E2
UID:5869b366-e57a-468a-b9f2-6b561f358c55
END:VEVENT
END:VCALENDAR
