BEGIN:VCALENDAR
PRODID:-//Session events Calendar//IBA//EN
CALSCALE:GREGORIAN
VERSION:2.0
BEGIN:VEVENT
DTSTAMP:20260426T014916Z
DTSTART:20240202T160000Z
DTEND:20240202T161500Z
SUMMARY:Closing remarks
DESCRIPTION:
LOCATION:America do Sul room - floor E2
UID:73a4082f-6b77-4baa-843d-7b11194d936e
END:VEVENT
END:VCALENDAR
