BEGIN:VCALENDAR
PRODID:-//Session events Calendar//IBA//EN
CALSCALE:GREGORIAN
VERSION:2.0
BEGIN:VEVENT
DTSTAMP:20260419T162343Z
DTSTART:20240417T153000Z
DTEND:20240418T000000Z
SUMMARY:Registration
DESCRIPTION:
LOCATION:
UID:478c92a8-5b56-446f-97c6-c634c5b08dcf
END:VEVENT
END:VCALENDAR
