BEGIN:VCALENDAR
PRODID:-//Session events Calendar//IBA//EN
CALSCALE:GREGORIAN
VERSION:2.0
BEGIN:VEVENT
DTSTAMP:20260419T162317Z
DTSTART:20240417T174500Z
DTEND:20240417T180000Z
SUMMARY:Opening remarks
DESCRIPTION:
LOCATION:
UID:666f2b1a-ff87-42b0-b0ac-ec8644a7791c
END:VEVENT
END:VCALENDAR
