BEGIN:VCALENDAR
PRODID:-//Session events Calendar//IBA//EN
CALSCALE:GREGORIAN
VERSION:2.0
BEGIN:VEVENT
DTSTAMP:20260419T162344Z
DTSTART:20240417T180000Z
DTEND:20240417T193000Z
SUMMARY:Showcase Panel –  The carrots and the sticks: how incentives\, ge
 opolitics and nationalism trends are accelerating the global energy tran
 sition into an era of action
DESCRIPTION:
LOCATION:
UID:29d26752-0791-4a17-8c27-d812be53747c
END:VEVENT
END:VCALENDAR
