BEGIN:VCALENDAR
PRODID:-//Session events Calendar//IBA//EN
CALSCALE:GREGORIAN
VERSION:2.0
BEGIN:VEVENT
DTSTAMP:20260419T162342Z
DTSTART:20240417T201000Z
DTEND:20240417T212500Z
SUMMARY:Water Law Committee – Water challenges in developing green hydrog
 en projects\, including desalination and treated wastewater 
DESCRIPTION:This panel will explore how competition with other water user
 s and limitations on water availability due to supply and water infrastr
 ucture constraints may jeopardise the potential growth of the hydrogen i
 ndustry.\n
LOCATION:
UID:ac6ef097-e6e7-41b4-86e1-e5c85af38b73
END:VEVENT
END:VCALENDAR
