BEGIN:VCALENDAR
PRODID:-//Session events Calendar//IBA//EN
CALSCALE:GREGORIAN
VERSION:2.0
BEGIN:VEVENT
DTSTAMP:20260419T162318Z
DTSTART:20240417T214500Z
DTEND:20240417T230000Z
SUMMARY:Power Law Committee – Do small modular reactors (SMRs) have a rol
 e to play in the energy mix and the energy transition?
DESCRIPTION:Small modular reactors (SMRs) provide a continuous and reliab
 le power supply\, unlike intermittent renewable sources such as wind and
  solar. SMRs have a smaller footprint and can be built in locations wher
 e large-scale renewable installations may not be feasible. They offer a 
 form of low-carbon energy generation that can also provide a solution fo
 r areas that lack the necessary infrastructure or transmission capacity 
 to support renewable energy projects. This session will discuss how SMR 
 projects are perceived in various parts of the world.\n\n\n
LOCATION:
UID:512a93ca-26ca-40aa-aa4b-b4dbdf3d51b0
END:VEVENT
END:VCALENDAR
