BEGIN:VCALENDAR
PRODID:-//Session events Calendar//IBA//EN
CALSCALE:GREGORIAN
VERSION:2.0
BEGIN:VEVENT
DTSTAMP:20260419T162342Z
DTSTART:20240418T133000Z
DTEND:20240418T210000Z
SUMMARY:Registration
DESCRIPTION:
LOCATION:
UID:031ba6cd-96cc-4634-b215-c33561f1d712
END:VEVENT
END:VCALENDAR
