BEGIN:VCALENDAR
PRODID:-//Session events Calendar//IBA//EN
CALSCALE:GREGORIAN
VERSION:2.0
BEGIN:VEVENT
DTSTAMP:20260419T162343Z
DTSTART:20240418T140000Z
DTEND:20240418T153000Z
SUMMARY:Showcase panel –  Risk management for the swift implementation of
  energy transition projects
DESCRIPTION:
LOCATION:
UID:795cddc6-9347-41e2-9f6c-c1a18985dd7b
END:VEVENT
END:VCALENDAR
