BEGIN:VCALENDAR
PRODID:-//Session events Calendar//IBA//EN
CALSCALE:GREGORIAN
VERSION:2.0
BEGIN:VEVENT
DTSTAMP:20260419T162317Z
DTSTART:20240418T155000Z
DTEND:20240418T171000Z
SUMMARY:Oil and Gas Law Committee –  The decarbonisation path for compani
 es heavily linked to oil and gas: from producers to consumers\, how comp
 anies in the region are changing their portfolio and investing in new so
 urces of energy
DESCRIPTION:Senior management personnel from leading South American compa
 nies will discuss how their respective organisations have managed the de
 carbonisation process so far\, given local challenges and the global dem
 and for carbon footprints to be reduced.\n
LOCATION:
UID:a8a52906-4023-400c-9ca0-b336c75f687a
END:VEVENT
END:VCALENDAR
