BEGIN:VCALENDAR
PRODID:-//Session events Calendar//IBA//EN
CALSCALE:GREGORIAN
VERSION:2.0
BEGIN:VEVENT
DTSTAMP:20260419T162342Z
DTSTART:20240418T181500Z
DTEND:20240418T190000Z
SUMMARY:Keynote speech
DESCRIPTION:
LOCATION:
UID:1edba9da-09ed-4263-bc9a-2dd5952c9cdd
END:VEVENT
END:VCALENDAR
