BEGIN:VCALENDAR
PRODID:-//Session events Calendar//IBA//EN
CALSCALE:GREGORIAN
VERSION:2.0
BEGIN:VEVENT
DTSTAMP:20260419T162316Z
DTSTART:20240418T192000Z
DTEND:20240418T204000Z
SUMMARY:Environment\, Health and Safety Law Committee –  How to compensat
 e the loss of nature? Lawyers as innovators\, organisers and agents of c
 ompensation
DESCRIPTION:In order to compensate for the impact of development on natur
 e\, various legal concepts and instruments are developing. The session a
 ims to address fundamental questions such as: What is the price of natur
 e? Who shall be obliged and for how long? How do we deal with unforeseea
 ble or unpreventable developments? It will give an overview of existing 
 and emerging instruments and will focus on the specific role lawyers can
  play.\n
LOCATION:
UID:25b5f168-f96a-4fb0-a68a-3efcdc423ac3
END:VEVENT
END:VCALENDAR
