BEGIN:VCALENDAR
PRODID:-//Session events Calendar//IBA//EN
CALSCALE:GREGORIAN
VERSION:2.0
BEGIN:VEVENT
DTSTAMP:20260419T162219Z
DTSTART:20240418T204000Z
DTEND:20240418T210000Z
SUMMARY:Coffee/tea break
DESCRIPTION:
LOCATION:
UID:cad7e5f4-6767-469c-8423-013fa12796bc
END:VEVENT
END:VCALENDAR
