BEGIN:VCALENDAR
PRODID:-//Session events Calendar//IBA//EN
CALSCALE:GREGORIAN
VERSION:2.0
BEGIN:VEVENT
DTSTAMP:20260419T182116Z
DTSTART:20240418T210000Z
DTEND:20240418T221500Z
SUMMARY:Academic Advisory Group –  Presentation of the Book Net Zero and 
 Natural Resources Law: Sovereignty\, Security and Solidarity in the Clea
 n Energy Transition
DESCRIPTION:
LOCATION:
UID:0e69c491-14a8-4601-96b9-5cb59b476020
END:VEVENT
END:VCALENDAR
