BEGIN:VCALENDAR
PRODID:-//Session events Calendar//IBA//EN
CALSCALE:GREGORIAN
VERSION:2.0
BEGIN:VEVENT
DTSTAMP:20260420T100429Z
DTSTART:20240406T070000Z
DTEND:20240406T080000Z
SUMMARY:Session six: UDHR 75th anniversary – future perspectives for lega
 l practitioners and their clients
DESCRIPTION:A session on how various jurisdictions have dealt with these 
 principles\, successes and failures.
LOCATION:
UID:fb665d4c-9188-42a3-b549-6db7fe66c693
END:VEVENT
END:VCALENDAR
