BEGIN:VCALENDAR
PRODID:-//Session events Calendar//IBA//EN
CALSCALE:GREGORIAN
VERSION:2.0
BEGIN:VEVENT
DTSTAMP:20260420T183213Z
DTSTART:20240312T090000Z
DTEND:20240312T091500Z
SUMMARY:Welcome remarks
DESCRIPTION:
LOCATION:
UID:f0d18442-3bc5-4818-b865-f559ccf7a8da
END:VEVENT
END:VCALENDAR
